Workbook

Sheet 履歴書
Q1: 履 歴 書
Q2: 令和 | U2: 年 | X2: 月 | AA2: 日現在 | AI2: 受験番号
AI3: （ | AL3: ）
Q4: ふりがな | AO4: 好きな科目名 | BG4: 健康状況
Q5: 氏 名 | AK5: 性別
Q7: 生年月日 | V7: 年号 | Z7: 年 | AC7: 月 | AF7: 日 | AG7: （満 | AK7: 歳） | AO7: 特技
BG8: 自己の性格
C9: ふりがな | AA9: 電話番号
C10: （現住所） | H10: 〒 | AO10: 志望動機
AA11: 携帯番号
BG12: その他希望する事項
C13: ふりがな | AA13: 電話番号
C14: （連絡先） | H14: 〒
AO15: 趣味、運動競技、所属サークル
C17: 年号 | F17: 年 | H17: 月 | J17: 学歴 職歴 賞罰
AO20: 年号 | AR20: 年 | AT20: 公 募 展 | BR20: 賞 名
AO27: 年号 | AR27: 年 | AT27: 月 | AV27: 師 事 歴
AO31: 年号 | AR31: 年 | AT31: 月 | AV31: 免 許 ・ 資 格
C37: 記入上の注意 | H37: 1．連絡先が現住所と同じ場合は同上と記載すること。
H38: 2．学歴、職歴、賞罰は格別にまとめて記載すること。
H39: 3．学歴は学部・学科名まで記載すること。

Sheet 集計用シート
A1: 区分 | B1: 職種 | C1: 受験番号 | D1: ふりがな | E1: 氏名 | F1: 性別 | G1: 年号 | H1: 年 | I1: 月 | J1: 日 | K1: 満年齢 | L1: 郵便番号 | M1: 住所 | N1: 電話番号 | O1: 携帯番号 | P1: 郵便番号 | Q1: 住所 | R1: 電話番号 | S1: 年号 | T1: 月 | U1: 日 | V1: 内容 | W1: 年号 | X1: 月 | Y1: 日 | Z1: 内容 | AA1: 年号 | AB1: 月 | AC1: 日 | AD1: 内容 | AE1: 年号 | AF1: 月 | AG1: 日 | AH1: 内容 | AI1: 年号 | AJ1: 月 | AK1: 日 | AL1: 内容 | AM1: 年号 | AN1: 月 | AO1: 日 | AP1: 内容 | AQ1: 年号 | AR1: 月 | AS1: 日 | AT1: 内容 | AU1: 年号 | AV1: 月 | AW1: 日 | AX1: 内容 | AY1: 年号 | AZ1: 月 | BA1: 日 | BB1: 内容 | BC1: 年号 | BD1: 月 | BE1: 日 | BF1: 内容 | BG1: 年号 | BH1: 月 | BI1: 日 | BJ1: 内容 | BK1: 年号 | BL1: 月 | BM1: 日 | BN1: 内容 | BO1: 年号 | BP1: 月 | BQ1: 日 | BR1: 内容 | BS1: 年号 | BT1: 月 | BU1: 日 | BV1: 内容 | BW1: 年号 | BX1: 月 | BY1: 日 | BZ1: 内容 | CA1: 年号 | CB1: 月 | CC1: 日 | CD1: 内容 | CE1: 年号 | CF1: 月 | CG1: 日 | CH1: 内容 | CI1: 好きな科目 | CJ1: 特技 | CK1: 志望動機 | CL1: 趣味、運動競技、サークル | CM1: 健康状況 | CN1: 自己の性格 | CO1: 第一希望 | CP1: 第二希望 | CQ1: 第一希望 | CR1: 第二希望 | CS1: 経理関係業務 | CT1: 企画関係業務 | CU1: 渉外折衝関係業務 | CV1: 秘書関係業務 | CW1: 研究関係業務 | CX1: 設計施行関係業務 | CY1: 指導関係業務 | CZ1: その他 | DA1: その他の内容 | DC1: 年号 | DD1: 年 | DE1: 月 | DF1: 内容 | DG1: 年号 | DH1: 月 | DI1: 日 | DJ1: 内容 | DK1: 年号 | DL1: 月 | DM1: 日 | DN1: 内容 | DO1: 年号 | DP1: 月 | DQ1: 日 | DR1: 内容 | DS1: 年号 | DT1: 月 | DU1: 日 | DV1: 内容 | DW1: 年号 | DX1: 月 | DY1: 日 | DZ1: 内容 | EA1: 年号 | EB1: 月 | EC1: 日 | ED1: 内容 | EE1: 年号 | EF1: 月 | EG1: 日 | EH1: 内容
A2: =履歴書!AD3 -> 0 | B2: =履歴書!AG3 -> 0 | C2: =履歴書!AJ3 -> 0 | D2: =履歴書!V4 -> 0 | E2: =履歴書!V5 -> 0 | F2: =履歴書!AK6 -> 0 | G2: =履歴書!V8 -> 0 | H2: =履歴書!X7 -> 0 | I2: =履歴書!AA7 -> 0 | J2: =履歴書!AD7 -> 0 | K2: =履歴書!AI7 -> 0 | L2: =履歴書!I10 -> 0 | M2: =履歴書!H11 -> 0 | N2: =履歴書!AA10 -> 0 | O2: =履歴書!AA12 -> 0 | P2: =履歴書!I14 -> 0 | Q2: =履歴書!H15 -> 0 | R2: =履歴書!AA14 -> 0 | S2: =履歴書!$C$18 -> 0 | T2: =履歴書!$F$18 -> 0 | U2: =履歴書!$H$18 -> 0 | V2: =履歴書!$J$18 -> 0 | W2: =履歴書!$C$19 -> 0 | X2: =履歴書!$F$19 -> 0 | Y2: =履歴書!$H$19 -> 0 | Z2: =履歴書!$J$19 -> 0 | AA2: =履歴書!$C$21 -> 0 | AB2: =履歴書!$F$21 -> 0 | AC2: =履歴書!$H$21 -> 0 | AD2: =履歴書!$J$21 -> 0 | AE2: =履歴書!$C$22 -> 0 | AF2: =履歴書!$F$22 -> 0 | AG2: =履歴書!$H$22 -> 0 | AH2: =履歴書!$J$22 -> 0 | AI2: =履歴書!#REF! -> #REF! | AJ2: =履歴書!#REF! -> #REF! | AK2: =履歴書!#REF! -> #REF! | AL2: =履歴書!#REF! -> #REF! | AM2: =履歴書!$C$23 -> 0 | AN2: =履歴書!$F$23 -> 0 | AO2: =履歴書!$H$23 -> 0 | AP2: =履歴書!$J$23 -> 0 | AQ2: =履歴書!$C$24 -> 0 | AR2: =履歴書!$F$24 -> 0 | AS2: =履歴書!$H$24 -> 0 | AT2: =履歴書!$J$24 -> 0 | AU2: =履歴書!$C$25 -> 0 | AV2: =履歴書!$F$25 -> 0 | AW2: =履歴書!$H$25 -> 0 | AX2: =履歴書!$J$25 -> 0 | AY2: =履歴書!$C$26 -> 0 | AZ2: =履歴書!$F$26 -> 0 | BA2: =履歴書!$H$26 -> 0 | BB2: =履歴書!$J$26 -> 0 | BC2: =履歴書!$C$27 -> 0 | BD2: =履歴書!$F$27 -> 0 | BE2: =履歴書!$H$27 -> 0 | BF2: =履歴書!$J$27 -> 0 | BG2: =履歴書!$C$29 -> 0 | BH2: =履歴書!$F$29 -> 0 | BI2: =履歴書!$H$29 -> 0 | BJ2: =履歴書!$J$29 -> 0 | BK2: =履歴書!$C$30 -> 0 | BL2: =履歴書!$F$30 -> 0 | BM2: =履歴書!$H$30 -> 0 | BN2: =履歴書!$J$30 -> 0 | BO2: =履歴書!$C$31 -> 0 | BP2: =履歴書!$F$31 -> 0 | BQ2: =履歴書!$H$31 -> 0 | BR2: =履歴書!$J$31 -> 0 | BS2: =履歴書!$C$32 -> 0 | BT2: =履歴書!$F$32 -> 0 | BU2: =履歴書!$H$32 -> 0 | BV2: =履歴書!$J$32 -> 0 | BW2: =履歴書!$C$34 -> 0 | BX2: =履歴書!$F$34 -> 0 | BY2: =履歴書!$H$34 -> 0 | BZ2: =履歴書!$J$34 -> 0 | CA2: =履歴書!$C$35 -> 0 | CB2: =履歴書!$F$35 -> 0 | CC2: =履歴書!$H$35 -> 0 | CD2: =履歴書!$J$35 -> 0 | CE2: =履歴書!$C$36 -> 0 | CF2: =履歴書!$F$36 -> 0 | CG2: =履歴書!$H$36 -> 0 | CH2: =履歴書!$J$36 -> 0 | CI2: =履歴書!AO5 -> 0 | CJ2: =履歴書!AO8 -> 0 | CK2: =履歴書!AO11 -> 0 | CL2: =履歴書!AO16 -> 0 | CM2: =履歴書!AO21 -> 0 | CN2: =履歴書!AO23 -> 0 | CO2: =履歴書!BL5 -> 0 | CP2: =履歴書!BL6 -> 0 | CQ2: =履歴書!BL9 -> 0 | CR2: =履歴書!BL10 -> 0 | CS2: =履歴書!BH13 -> 0 | CT2: =履歴書!BH14 -> 0 | CU2: =履歴書!BH15 -> 0 | CV2: =履歴書!BH17 -> 0 | CW2: =履歴書!BH18 -> 0 | CX2: =履歴書!BH19 -> 0 | CY2: =履歴書!BH21 -> 0 | CZ2: =履歴書!BH22 -> 0 | DA2: =履歴書!BN22 -> 0 | DB2: =履歴書!BG23 -> 0 | DC2: =履歴書!$AO$27 -> 年号 | DD2: =履歴書!$AR$27 -> 年 | DE2: =履歴書!$AT$27 -> 月 | DF2: =履歴書!$AV$27 -> 師 事 歴 | DG2: =履歴書!$AO$29 -> 0 | DH2: =履歴書!$AR$29 -> 0 | DI2: =履歴書!$AT$29 -> 0 | DJ2: =履歴書!$AV$29 -> 0 | DK2: =履歴書!$AO$30 -> 0 | DL2: =履歴書!$AR$30 -> 0 | DM2: =履歴書!$AT$30 -> 0 | DN2: =履歴書!$AV$30 -> 0 | DO2: =履歴書!$AO$31 -> 年号 | DP2: =履歴書!$AR$31 -> 年 | DQ2: =履歴書!$AT$31 -> 月 | DR2: =履歴書!$AV$31 -> 免 許 ・ 資 格 | DS2: =履歴書!$AO$32 -> 0 | DT2: =履歴書!$AR$32 -> 0 | DU2: =履歴書!$AT$32 -> 0 | DV2: =履歴書!$AV$32 -> 0 | DW2: =履歴書!$AO$34 -> 0 | DX2: =履歴書!$AR$34 -> 0 | DY2: =履歴書!$AT$34 -> 0 | DZ2: =履歴書!$AV$34 -> 0 | EA2: =履歴書!$AO$35 -> 0 | EB2: =履歴書!$AR$35 -> 0 | EC2: =履歴書!$AT$35 -> 0 | ED2: =履歴書!$AV$35 -> 0 | EE2: =履歴書!$AO$36 -> 0 | EF2: =履歴書!$AR$36 -> 0 | EG2: =履歴書!$AT$36 -> 0 | EH2: =履歴書!$AV$36 -> 0
